BEGIN:VCALENDAR
VERSION:2.0
METHOD:PUBLISH
BEGIN:VEVENT
UID:5685
DTSTAMP:{ts '2026-04-23 16:48:32'}
DTSTART;VALUE=DATE:20171009
DTEND;VALUE=DATE:20171014
SUMMARY:MSV Brno 2017
LOCATION:Brno | Czech Republic 
DESCRIPTION:The International Engineering Fair (MSV) is the leading industrial trade fair in Central Europe with annual participation reaching more than 1500 exhibitors and 75000 visitors from 59 countries worldwide.  - http://marketing.ps.hexagonmi.com/events/msv-brno-2017
CLASS:PUBLIC
END:VEVENT
END:VCALENDAR